BEGIN:VCALENDAR
VERSION:2.0
PRODID:-//eventon.com NONSGML v1.0//EN
CALSCALE:GREGORIAN
METHOD:PUBLISH
BEGIN:VEVENT
UID:69e7463bc797b
DTSTAMP:20260421T114115
DTSTART:20191016T180000Z
DTEND:20191016T193000Z
TZID:UTC
LOCATION:
SUMMARY:ZÖLDÖVEZET | ÖKOBABA
DESCRIPTION:A zöldövezet segít megtalálni az utat egy tudatosabb\,  környezetbarát élethez. KÖRNYEZETBARÁT BABA | TUDATOS BABAVÁRÁS ÉS MINDENNAPOK Napjainkban egyre többen figyelnek oda a környezetbarát háztartásra és mindennapokra. Szelektíven gyűjtjük a szemetet\,  kulacsot és vászonszatyrot viszünk a táskánkban mindenhova. Amikor pedig kiderül\,  hogy nemsokára bővül a család\,  még jobban elkezdjük átnézni[..]\nhttps://barabasvilla.hu/events/zoldovezet-okobaba-2/
URL:https://barabasvilla.hu/events/zoldovezet-okobaba-2/
END:VEVENT
END:VCALENDAR