BEGIN:VCALENDAR
VERSION:2.0
PRODID:-//eventon.com NONSGML v1.0//EN
CALSCALE:GREGORIAN
METHOD:PUBLISH
BEGIN:VEVENT
UID:69e73541af147
DTSTAMP:20260421T102849
DTSTART:20191001T190000Z
DTEND:20191001T203000Z
TZID:UTC
LOCATION:
SUMMARY:hang.villa | a zene világnapja
DESCRIPTION:A hang.villa koncerteken fiatal tehetségek mutatkoznak be és nyújtanak könnyed komolyzenei élményt a Barabás Villában. HANGVARÁZS Vajon hány húron pendül három lány\,  kiknek a hangszerük megszólaltatásához három különböző technika szükséges? Egyedülálló és változatos hangzás\,  különleges repertoár a zene világnapján. Miranda Liu több száz koncertet adott szólistaként\,  kamarazenészként és koncertmesterként az[..]\nhttps://barabasvilla.hu/events/hang-villa-a-zene-vilagnapja/
URL:https://barabasvilla.hu/events/hang-villa-a-zene-vilagnapja/
END:VEVENT
END:VCALENDAR