BEGIN:VCALENDAR
VERSION:2.0
PRODID:-//eventon.com NONSGML v1.0//EN
CALSCALE:GREGORIAN
METHOD:PUBLISH
BEGIN:VEVENT
UID:69ebcff2d2b43
DTSTAMP:20260424T221754
DTSTART:20190526
DTEND:20190527
TZID:UTC
LOCATION:
SUMMARY:piknik
DESCRIPTION:Egy nap a szabadban jó társaságban\,  barátokkal\,  családdal. Pokrócon elheveredés\,  fűre lépés\,  padokon napozás\,  madármegfigyelés\,  növényhatározás\,  koncerthallgatás\,  közös alkotás. A piknikkosarakról és az azokba rejtett finom falatokról a NUANCE gondoskodik. 9:00–12:00 villásreggeli a NUANCE lunch and barban 12:00–19:00 piknik | vedd át a kosarad a NUANCE-ban! 15:00–17:00 virágkoszorú workshopok nagyoknak[..]\nhttps://barabasvilla.hu/events/piknik/
URL:https://barabasvilla.hu/events/piknik/
END:VEVENT
END:VCALENDAR