BEGIN:VCALENDAR
VERSION:2.0
PRODID:-//eventon.com NONSGML v1.0//EN
CALSCALE:GREGORIAN
METHOD:PUBLISH
BEGIN:VEVENT
UID:69e57824a28d3
DTSTAMP:20260420T024940
DTSTART:20190613
DTEND:20190701
TZID:UTC
LOCATION:
SUMMARY:MOME fotó 1.0 | 1.0 English | Streetfotó
DESCRIPTION:A Moholy-Nagy Művészeti Egyetem már évek óta megrendezi a Fotó 1.0\,  Fotó 2.0 és Streetfotó tanfolyamait\,  melyeket a végzős hallgatók munkáit bemutató kiállítás zár. A kurzusok és a kiállítás a MOME szellemiségét tükrözik. A technikai ismeretek mellett kiemelt szerepet kap a fotográfia kritikai megközelítése\,  mely a résztvevők vizuális véleményformálásában és[..]\nhttps://barabasvilla.hu/events/mome-foto-1-0-1-0-english-streetfoto/
URL:https://barabasvilla.hu/events/mome-foto-1-0-1-0-english-streetfoto/
END:VEVENT
END:VCALENDAR