BEGIN:VCALENDAR
VERSION:2.0
PRODID:-//eventon.com NONSGML v1.0//EN
CALSCALE:GREGORIAN
METHOD:PUBLISH
BEGIN:VEVENT
UID:69e735ebf3d4a
DTSTAMP:20260421T103139
DTSTART:20190523T203000Z
DTEND:20190523T223000Z
TZID:UTC
LOCATION:
SUMMARY:hangosfilm kertmozi
DESCRIPTION:2019-ben is tematikus filmklubbal várjuk a mozirajongókat: főszerepben a zene és a tánc – nyáron a kertben! KÖTELEZŐ TÁNCOK ausztrál romantikus dráma\,  94 perc\,  1992 Scott Hastings\,  a táncbajnok élete legsorsdöntőbb lépésére szánja el magát\,  mikor szülei legnagyobb elképedésére és ellenzése ellenére a táncos-tanuló Frant választja meg új partnerének. Az\, [..]\nhttps://barabasvilla.hu/events/hangosfilm-kertmozi/
URL:https://barabasvilla.hu/events/hangosfilm-kertmozi/
END:VEVENT
END:VCALENDAR