BEGIN:VCALENDAR
VERSION:2.0
PRODID:-//eventon.com NONSGML v1.0//EN
CALSCALE:GREGORIAN
METHOD:PUBLISH
BEGIN:VEVENT
UID:69e73541a4c06
DTSTAMP:20260421T102849
DTSTART:20181114T180000Z
DTEND:20181114T210000Z
TZID:UTC
LOCATION:
SUMMARY:Képfestők
DESCRIPTION:LEONID AFREMOV &#8211; SÉTA LÓHÁTON Az ősz csodás színei\,  fényei kihagyhatatlanok a festészetben. Olyan színkavalkádot varázsolhatsz a vásznadra\,  hogy bármilyen kedved is legyen\,  felvidít és mosolyt csal az arcodra! Ahogy ránézel\,  már érzed is a hűvös levegő illatát\,  hallod a lovak dobogását\,  és a lehulló levelek neszét. Sétáljunk együtt az[..]\nhttps://barabasvilla.hu/events/kepfestok-afremov/
URL:https://barabasvilla.hu/events/kepfestok-afremov/
END:VEVENT
END:VCALENDAR