BEGIN:VCALENDAR
VERSION:2.0
PRODID:-//eventon.com NONSGML v1.0//EN
CALSCALE:GREGORIAN
METHOD:PUBLISH
BEGIN:VEVENT
UID:69e5e6fadbc2b
DTSTAMP:20260420T104234
DTSTART:20260429T110000Z
DTEND:20260429T133000Z
TZID:UTC
LOCATION:
SUMMARY:Ingyenes Szenior örömtánc foglalkozás a tánc világnapján!
DESCRIPTION:❣️Igazoltan javítja\,  fejleszti a koordinációs képességet és a memóriát. ❣️Ha az 50 -100 éves korosztályhoz tartozol\,  csatlakozz egy igazán vidám közösséghez! Sem előzetes tánctudásra\,  sem partnerre nincs szükség. 💮Mit kell hozni az órára? Zárt váltócipő szükséges (papucsban tilos táncolni!)\,  innivaló ajánlott. Rendszeres program információ: ITT &nbsp; MOZGÁS+ÖRÖM+AGYTORNA=ÖRÖMTÁNC💮Oktató Balogh Zsuzsa szenior[..]\nhttps://barabasvilla.hu/events/ingyenes-szenior-oromtanc-foglalkozas-a-tanc-vilagnapjan/
URL:https://barabasvilla.hu/events/ingyenes-szenior-oromtanc-foglalkozas-a-tanc-vilagnapjan/
END:VEVENT
END:VCALENDAR