BEGIN:VCALENDAR
VERSION:2.0
PRODID:-//eventon.com NONSGML v1.0//EN
CALSCALE:GREGORIAN
METHOD:PUBLISH
BEGIN:VEVENT
UID:69e747a2d59e7
DTSTAMP:20260421T114714
DTSTART:20250907T193000Z
DTEND:20250907T220000Z
TZID:UTC
LOCATION:
SUMMARY:Márfi Márk: Telik
DESCRIPTION:2021 augusztusának végén\,  a Lóvasút Kulturális és Rendezvénytérben mutatták be a Telik – egy óra az életedből című produkciót Márfi Márk játékával. Az előadás érdekessége\,  hogy egy szakdolgozatból született önadaptáció. Márfi Márk 2020-ban végzett az SZFE prózai színész szakán. Diplomamunkáját ugyanebben az évben\,  a tavaszi karantén ideje alatt írta meg[..]\nhttps://barabasvilla.hu/events/marfi-mark-telik/
URL:https://barabasvilla.hu/events/marfi-mark-telik/
END:VEVENT
END:VCALENDAR