BEGIN:VCALENDAR
VERSION:2.0
PRODID:-//eventon.com NONSGML v1.0//EN
CALSCALE:GREGORIAN
METHOD:PUBLISH
BEGIN:VEVENT
UID:69e747a2ca381
DTSTAMP:20260421T114714
DTSTART:20250910T193000Z
DTEND:20250910T220000Z
TZID:UTC
LOCATION:
SUMMARY:Márfi Márk: Lassan
DESCRIPTION:– Bocs.– Ki hívott?– Senki se hívott.– Miért nem vetted fel?– Ez csak figyelmeztető volt.– Mire figyelmeztet?– Hogy el ne felejtsek valamit.– Te nem szoktál elfelejteni dolgokat.– Dehogynem… Csak nehezen.  A dráma a kommunikációképtelenségről beszél: hogy tudunk-e még kérdezni egymástól; egyáltalán akarunk-e kérdezni; van-e erre igénye az embernek. Hogy tartunk\, [..]\nhttps://barabasvilla.hu/events/marfi-mark-lassan/
URL:https://barabasvilla.hu/events/marfi-mark-lassan/
END:VEVENT
END:VCALENDAR