BEGIN:VCALENDAR
VERSION:2.0
PRODID:-//eventon.com NONSGML v1.0//EN
CALSCALE:GREGORIAN
METHOD:PUBLISH
BEGIN:VEVENT
UID:69e746e2c6bd5
DTSTAMP:20260421T114402
DTSTART:20250803T200000Z
DTEND:20250803T205500Z
TZID:UTC
LOCATION:
SUMMARY:M\,  mint Mizantróp
DESCRIPTION:Szerintem a Mizantróp minden nyugatra szakadt magyarnak rokonlelke. Előadásunkkal kiröhögjük a höbörgő-asztalcsapkodó- fennhéjázó önmagunkat\,  de megszólalni engedjük a meg nem-értettségünk elviselhetetlen\,  feloldozhatatlan maganyát is. A munka során egyre szorosabban fontam Mihály köré az előadást; kizárólag általa él a darab\,  és nagyon is él. Letisztult\,  merész színházi találkozást készítettem elő a[..]\nhttps://barabasvilla.hu/events/mmint-mizantrop/
URL:https://barabasvilla.hu/events/mmint-mizantrop/
END:VEVENT
END:VCALENDAR