BEGIN:VCALENDAR
VERSION:2.0
PRODID:-//eventon.com NONSGML v1.0//EN
CALSCALE:GREGORIAN
METHOD:PUBLISH
BEGIN:VEVENT
UID:69e74ad67d2db
DTSTAMP:20260421T120054
DTSTART:20250807T200000Z
DTEND:20250807T205500Z
TZID:UTC
LOCATION:
SUMMARY:C\,  mint Cyrano
DESCRIPTION:Cyranó Edmond Rostand örökérvényű drámája századok óta népszerű a közönség körében. Cyranó a szenvedélyről\,  a lélek és a test csatájáról\,  a beteljesületlen szerelemről szól. A darab a költői lelkű Cyranó – aki hatalmas orra miatt sohasem számíthat szerelme viszonzására – és Christian\,  a fiatal\,  vonzó katonatiszt ellentétét boncolgatja\,  akik mindketten[..]\nhttps://barabasvilla.hu/events/c-mint-cyrano/
URL:https://barabasvilla.hu/events/c-mint-cyrano/
END:VEVENT
END:VCALENDAR