BEGIN:VCALENDAR
VERSION:2.0
PRODID:-//eventon.com NONSGML v1.0//EN
CALSCALE:GREGORIAN
METHOD:PUBLISH
BEGIN:VEVENT
UID:69e746c724779
DTSTAMP:20260421T114335
DTSTART:20250724T200000Z
DTEND:20250724T213000Z
TZID:UTC
LOCATION:
SUMMARY:Gólem-Borgula András: Katonadolog
DESCRIPTION:1975-ben avatták fel Budapesten a Taurus gumigyárat. Ehhez képest eggyel kevésbé tűnik érdekesnek\,  de abban az évben született Borgula András\,  a Gólem Színház megalapítója és művészeti vezetője. De ha eláruljuk\,  hogy Magyarország egyetlen zsidó színházának vezetője évekig azt sem tudta\,  hogy zsidó\,  máris izgalmasabb a dolog. Ezt és számos más[..]\nhttps://barabasvilla.hu/events/katonadolog/
URL:https://barabasvilla.hu/events/katonadolog/
END:VEVENT
END:VCALENDAR