BEGIN:VCALENDAR
VERSION:2.0
PRODID:-//eventon.com NONSGML v1.0//EN
CALSCALE:GREGORIAN
METHOD:PUBLISH
BEGIN:VEVENT
UID:69e747bccebcb
DTSTAMP:20260421T114740
DTSTART:20250731T200000Z
DTEND:20250731T213000Z
TZID:UTC
LOCATION:
SUMMARY:A férfi\,  ha elmúlt 40…
DESCRIPTION:E képzeletszínházi est keretében két nagyszerű és közismert színész beszélget a moderátorral\,  valamint a nézőkkel. A Janikovszky Éva írásai alapján életre keltett halhatatlan férfialakok segítségével gondolkodnak közösen a 40-45 év feletti lét végpontjairól: mindennapi mélységeiről és magasságairól. Őszintén és együttérzéssel vallanak arról\,  milyen válaszok\,  megoldások születtek bennük az élet különféle[..]\nhttps://barabasvilla.hu/events/a-ferfi-ha-elmult-40/
URL:https://barabasvilla.hu/events/a-ferfi-ha-elmult-40/
END:VEVENT
END:VCALENDAR