BEGIN:VCALENDAR
VERSION:2.0
PRODID:-//eventon.com NONSGML v1.0//EN
CALSCALE:GREGORIAN
METHOD:PUBLISH
BEGIN:VEVENT
UID:69ecd9d995570
DTSTAMP:20260425T171225
DTSTART:20250703T200000Z
DTEND:20250703T213000Z
TZID:UTC
LOCATION:
SUMMARY:🎶 TELTHÁZ! Kalmus Felicián: LimonCello – Garden Party
DESCRIPTION:Képzeld el a cselló hangját\,  ahogy finoman száll a varázslatos nyári estében– hangulatos fényfüzérek alatt\,  stílusos szabadtéri környezetben\,  egy pohár roséval vagy proseccóval a kézben. Kalmus Felicián\,  Magyarország második legjátszottabb kortárs zeneszerzője (Klasszik Rádió) most egy igazán különleges szólóesttel érkezik: Ez a LimonCello – Garden Party. Ez a koncert a[..]\nhttps://barabasvilla.hu/events/%f0%9f%8e%b6-kalmus-felician-limoncello-garden-party/
URL:https://barabasvilla.hu/events/%f0%9f%8e%b6-kalmus-felician-limoncello-garden-party/
END:VEVENT
END:VCALENDAR