BEGIN:VCALENDAR
VERSION:2.0
PRODID:-//eventon.com NONSGML v1.0//EN
CALSCALE:GREGORIAN
METHOD:PUBLISH
BEGIN:VEVENT
UID:69e747bcd8592
DTSTAMP:20260421T114740
DTSTART:20250714T200000Z
DTEND:20250714T213000Z
TZID:UTC
LOCATION:
SUMMARY:TELTHÁZ! A nő\,  ha elmúlt 40…
DESCRIPTION:Az előadók Janikovszky Éva írásai alapján életre keltett halhatatlan nőalakok segítségével gondolkodnak közösen a 40-45 év feletti lét végpontjairól: mindennapi mélységeiről és magasságairól. Őszintén és együttérzéssel vallanak arról\,  milyen válaszok\,  megoldások születtek bennük az élet különféle helyzeteire a negyedik X-en túl… A különféle „arcainkra” igyekeznek közelebbről és mélyebben rátekinteni &#8211;[..]\nhttps://barabasvilla.hu/events/a-no-ha-elmult-40/
URL:https://barabasvilla.hu/events/a-no-ha-elmult-40/
END:VEVENT
END:VCALENDAR