BEGIN:VCALENDAR
VERSION:2.0
PRODID:-//eventon.com NONSGML v1.0//EN
CALSCALE:GREGORIAN
METHOD:PUBLISH
BEGIN:VEVENT
UID:69e74797c9c08
DTSTAMP:20260421T114703
DTSTART:20250616T200000Z
DTEND:20250616T214500Z
TZID:UTC
LOCATION:
SUMMARY:Boldogan éltek
DESCRIPTION:Színházi mese felnőtteknek\,  avagy válás után is van élet és még azon is túl. Dramedy A válás a valóságban tabusítva van és szégyenfoltja egy családnak. Épp a tabujellege miatt nincs bejáratott formája\,  hogyan is lehet ezt a lehető legjobban csinálni. Nincsenek a kezünkben tuti tippek\,  és nyilván minden család és[..]\nhttps://barabasvilla.hu/events/boldogan-eltek/
URL:https://barabasvilla.hu/events/boldogan-eltek/
END:VEVENT
END:VCALENDAR