BEGIN:VCALENDAR
VERSION:2.0
PRODID:-//eventon.com NONSGML v1.0//EN
CALSCALE:GREGORIAN
METHOD:PUBLISH
BEGIN:VEVENT
UID:69eba3dfa29fe
DTSTAMP:20260424T190951
DTSTART:20250709T200000Z
DTEND:20250709T213000Z
TZID:UTC
LOCATION:
SUMMARY:Ady/Petőfi
DESCRIPTION:Gyakran találkozni azzal az általános vélekedéssel a diákok körében\,  hogy mindenki\,  aki a tankönyvekben szerepel\,  csak egy távoli\,  piedesztál álló\,  morálisan vitathatatlan erényeket felmutató hérosz lehetett\,  s el sem tudják képzelni (bár az életrajzok gyakran utalnak erre\,  a részletektől megkímélve)\,  hogy milyen problémákkal\,  emberi gyarlóságokkal\,  hétköznapi drámákkal volt az ő[..]\nhttps://barabasvilla.hu/events/ady-petofi/
URL:https://barabasvilla.hu/events/ady-petofi/
END:VEVENT
END:VCALENDAR