BEGIN:VCALENDAR
VERSION:2.0
PRODID:-//eventon.com NONSGML v1.0//EN
CALSCALE:GREGORIAN
METHOD:PUBLISH
BEGIN:VEVENT
UID:69ecde3bce3b0
DTSTAMP:20260425T173107
DTSTART:20250630T190000Z
DTEND:20250630T200000Z
TZID:UTC
LOCATION:
SUMMARY:Anton Pavlovics Csehov: CSERESZNYÉSKERT
DESCRIPTION:Anton Pavlovics CsehovCseresznyéskert című komédiájátMorcsányi Géza fordításának felhasználásávalszínpadra alkalmazta: Balassa Eszter. NYÁRI SZÍNHÁZ A VÁROSMAJORI BARABÁS VILLÁBAN Szabad ég\,  szabad gondolat\,  szabad élmény – Nyári színház a Városmajori Barabás Villában A nyári színházi élménynek megvan a maga sajátos varázsa: ahogy lemenő napfényben kezdődnek az előadások\,  a madárcsicsergés lassan háttérbe húzódik\, [..]\nhttps://barabasvilla.hu/events/anton-pavlovics-csehov-cseresznyeskert/
URL:https://barabasvilla.hu/events/anton-pavlovics-csehov-cseresznyeskert/
END:VEVENT
END:VCALENDAR