BEGIN:VCALENDAR
VERSION:2.0
PRODID:-//eventon.com NONSGML v1.0//EN
CALSCALE:GREGORIAN
METHOD:PUBLISH
BEGIN:VEVENT
UID:69e80ce658853
DTSTAMP:20260422T014854
DTSTART:20250423T180000Z
DTEND:20250423T200000Z
TZID:UTC
LOCATION:
SUMMARY:Interferáló Univerzumok
DESCRIPTION:Kiállító művészek: Bencze Kovács György Gesztelyi Nagy Zsuzsa Lakatos Botond Osgyányi Ranvig Róza Osgyányi Sára Papageorgiu Andrea Ranvig Keeler Asheesh Schnedarek Réka A kiállítás megtekinthető április 24-május 14.\,  hétfőtől csütörtökig 9.00-17.00\,  kivéve április 24.  9.00-16.00 péntektől vasárnapig\,  ünnepnapokon\,  valamint április 29-én\,  kedden zárva tart. kiállítás megnyitóA kiállítást megnyitja Bán Blanka[..]\nhttps://barabasvilla.hu/events/interferalo-univerzumok/
URL:https://barabasvilla.hu/events/interferalo-univerzumok/
END:VEVENT
END:VCALENDAR