BEGIN:VCALENDAR
VERSION:2.0
PRODID:-//eventon.com NONSGML v1.0//EN
CALSCALE:GREGORIAN
METHOD:PUBLISH
BEGIN:VEVENT
UID:69e7348bb83e2
DTSTAMP:20260421T102547
DTSTART:20250227T180000Z
DTEND:20250227T200000Z
TZID:Africa/Abidjan
LOCATION:
SUMMARY:Bűnről és bűnhődésről Janecskó Katával
DESCRIPTION:Mi is hibásak vagyunk? Janecskó Kata újságíróval beszélgetésre hívjuk a közönséget: feltárjuk a bűncselekmények anatómiáját\,  hogy eldönthessük\,  jól kezeli-e a társadalom a bűnözést. Megvizsgáljuk\,  milyen emberek az elkövetők\,  és a true crime műsorok bemutatásával igyekszünk megérteni\,  hogyan vált a borzalom fogyasztási cikké. A ma mítoszpótlékai: a valódi bűnügyek. Ősi erő ellen ágál[..]\nhttps://barabasvilla.hu/events/bunrol-es-bunhodesrol-janecsko-kataval/
URL:https://barabasvilla.hu/events/bunrol-es-bunhodesrol-janecsko-kataval/
END:VEVENT
END:VCALENDAR