BEGIN:VCALENDAR
VERSION:2.0
PRODID:-//eventon.com NONSGML v1.0//EN
CALSCALE:GREGORIAN
METHOD:PUBLISH
BEGIN:VEVENT
UID:69e740407a529
DTSTAMP:20260421T111544
DTSTART:20250227T190000Z
DTEND:20250227T200000Z
TZID:UTC
LOCATION:
SUMMARY:Pengő Csaba-Uher-Győrfi Bálint duó koncert
DESCRIPTION:A frissen alakult\,  szokatlan hangszerösszeállítású formáció túlnyomó részben saját darabokat játszik\,  kiaknázva a hangszereik megszólaltatásának legszélesebb palettáját. Ezekben a kompozíciókban igen sokféle zenei stílus felfedezhető a jazztől a kortárs zenén át a népi\,  illetve blues-os hatásokig. &nbsp; Felhívjuk szíves figyelmüket\,  hogy a rendezvényen kép-és hangfelvétel készül! A rendezvényen való részvétel[..]\nhttps://barabasvilla.hu/events/pengo-csaba-uher-gyorfi-balint-duo-koncert/
URL:https://barabasvilla.hu/events/pengo-csaba-uher-gyorfi-balint-duo-koncert/
END:VEVENT
END:VCALENDAR