BEGIN:VCALENDAR
VERSION:2.0
PRODID:-//eventon.com NONSGML v1.0//EN
CALSCALE:GREGORIAN
METHOD:PUBLISH
BEGIN:VEVENT
UID:69e5ea5665577
DTSTAMP:20260420T105654
DTSTART:20241016T170000Z
DTEND:20241016T180000Z
TZID:UTC
LOCATION:
SUMMARY:tér - forma - felület - tárlatvezetés\,  találkozás a művésszel 2.0
DESCRIPTION:https://barabasvilla.hu/wp-content/uploads/2024/09/TER_FORMA_FELULET_FB_BANNER_1_3-JAV.mp4 &nbsp; A kiállítás a Budapesti Design Week rendezvénysorozat része. A kiállítás megtekinthető: 2024. október 2-22-ig\,  hétfőn és szerdán 9.00-19.00\,  kedden és csütörtökön 9.00-17.00\,  valamint a meghirdetett programok idejében. Péntektől vasárnapig\,  zártkörű rendezvények miatt zárva tart. Kiegésztő programok: október 14. és  16. \,  17.00 Tárlatvezetés\,  találkozás a művésszel A kiállítás[..]\nhttps://barabasvilla.hu/events/ter-forma-felulet-tarlatvezetes-talalkozas-a-muvesszel-2-0/
URL:https://barabasvilla.hu/events/ter-forma-felulet-tarlatvezetes-talalkozas-a-muvesszel-2-0/
END:VEVENT
END:VCALENDAR