BEGIN:VCALENDAR
VERSION:2.0
PRODID:-//eventon.com NONSGML v1.0//EN
CALSCALE:GREGORIAN
METHOD:PUBLISH
BEGIN:VEVENT
UID:69e4d853c2165
DTSTAMP:20260419T152747
DTSTART:20240718
DTEND:20240731
TZID:UTC
LOCATION:
SUMMARY:Different Perspectives from Cuba
DESCRIPTION:A kiállítás megtekinthető július 30-ig\,  a nyitvatartási időben: július 22-25.\,  hétfőtől csütörtökig 9.00-18.00 július 29.\,  hétfő 9.00-16.00 július 30.\,  kedd 16.00-20.00 Daniel Casanova Ribalta fotókiállítása / photo exhibition\nhttps://barabasvilla.hu/events/different-perspectives-from-cuba-2/
URL:https://barabasvilla.hu/events/different-perspectives-from-cuba-2/
END:VEVENT
END:VCALENDAR