BEGIN:VCALENDAR
VERSION:2.0
PRODID:-//eventon.com NONSGML v1.0//EN
CALSCALE:GREGORIAN
METHOD:PUBLISH
BEGIN:VEVENT
UID:69e61b75f1c18
DTSTAMP:20260420T142629
DTSTART:20240324T170000Z
DTEND:20240324T200000Z
TZID:UTC
LOCATION:
SUMMARY:Don’t worry\,  be happy- Fekete Csaba kiállításának megnyitója
DESCRIPTION:Fekete Csaba 1999-ben végzett Pécsen\,  a művészeti karon\,  mestere Keserű Ilona volt. 20 év kihagyás után\,  harmadik alkalommal szerepelnek képei a Barabás Villában. A kiállítás megtekinthető: március 25.április 25. hétfő\,  szerda 9.00-19.00 kedd\,  csütörtök 9.00-17.00 péntek\,  szombat zárva\,  vasárnap a meghirdetett rendezvények idejében. Információ: info@barabasvilla.hu A kiállítást megnyitja Majoros Balázs\nhttps://barabasvilla.hu/events/dont-worry-be-happy-fekete-csaba-kiallitasanak-megnyitoja/
URL:https://barabasvilla.hu/events/dont-worry-be-happy-fekete-csaba-kiallitasanak-megnyitoja/
END:VEVENT
END:VCALENDAR