BEGIN:VCALENDAR
VERSION:2.0
PRODID:-//eventon.com NONSGML v1.0//EN
CALSCALE:GREGORIAN
METHOD:PUBLISH
BEGIN:VEVENT
UID:69e7341642851
DTSTAMP:20260421T102350
DTSTART:20240309T190000Z
DTEND:20240309T220000Z
TZID:UTC
LOCATION:
SUMMARY:Irodalom és design
DESCRIPTION:Március 9-én este hét órakor szeretettel várunk a Barabás Villába\,  ahol az irodalom és a design kapcsolatáról fogunk beszélgetni. Karafiáth Orsolya többkötetes író\,  költő\,  szerkesztő\,  performanszer. Versesköteteit Filó Vera illusztrálta. Regényeihez fotósorozatokat\,  trailereket készítettett\,  a borítón legtöbbször &#8211; ami merész és ritka választás &#8211; ő maga szerepel. Kovács Rita első\, [..]\nhttps://barabasvilla.hu/events/irodalom-es-design/
URL:https://barabasvilla.hu/events/irodalom-es-design/
END:VEVENT
END:VCALENDAR