BEGIN:VCALENDAR
VERSION:2.0
PRODID:-//eventon.com NONSGML v1.0//EN
CALSCALE:GREGORIAN
METHOD:PUBLISH
BEGIN:VEVENT
UID:69e735cd315c7
DTSTAMP:20260421T103109
DTSTART:20221115T193000Z
DTEND:20221115T210000Z
TZID:UTC
LOCATION:
SUMMARY:FAQ Színház: Gyakran ismételt kérdések
DESCRIPTION:Kanyargós beszélgetésfolyam\,  ami azonban valós interjúkból lett összegyúrva. A két színész Gobbi Hilda és Őze Lajos bőrébe bújik – végül mégis saját magukról beszélnek. A darab a 2022-es Thealter Fesztivál és a Vidor Fesztivál különdíjas előadása. Játsszák: Martinkovics Máté Messaoudi Emina Dramaturg: Al-Farman Petra Rendező: Barcsai Bálint Az előadás előtt[..]\nhttps://barabasvilla.hu/events/faq-szinhaz-gyakran-ismetelt-kerdesek/
URL:https://barabasvilla.hu/events/faq-szinhaz-gyakran-ismetelt-kerdesek/
END:VEVENT
END:VCALENDAR