BEGIN:VCALENDAR
VERSION:2.0
PRODID:-//eventon.com NONSGML v1.0//EN
CALSCALE:GREGORIAN
METHOD:PUBLISH
BEGIN:VEVENT
UID:69e5e8dabf953
DTSTAMP:20260420T105034
DTSTART:20220918T160000Z
DTEND:20220918T180000Z
TZID:UTC
LOCATION:
SUMMARY:Megnyitó: Titkokat suttogó babák – Karakter babáktól az antik babákig
DESCRIPTION:Sok szeretettel meghívjuk a 2022. szeptember 18-án\,  vasárnap 16.00 órakor nyíló TITKOKAT SUTTOGÓ BABÁK Karakter babáktól az antik babákig – Helmeci Éva gyémántkoszorús baba- és mackókészítő mester életmű kiállításának megnyitójára. A kiállítást megnyitja: Lévai Anikó Beszédet mond: Dr. Nagy Veronika\,  a székesfehérvári Hetedhét Játékmúzeum muzeológusa Közreműködik: Szalóki Ági Helyszín: Barabás[..]\nhttps://barabasvilla.hu/events/megnyito-titkokat-suttogo-babak-karakter-babaktol-az-antik-babakig/
URL:https://barabasvilla.hu/events/megnyito-titkokat-suttogo-babak-karakter-babaktol-az-antik-babakig/
END:VEVENT
END:VCALENDAR