BEGIN:VCALENDAR
VERSION:2.0
PRODID:-//eventon.com NONSGML v1.0//EN
CALSCALE:GREGORIAN
METHOD:PUBLISH
BEGIN:VEVENT
UID:69e73550972f7
DTSTAMP:20260421T102904
DTSTART:20220406T180000Z
DTEND:20220406T190000Z
TZID:UTC
LOCATION:
SUMMARY:TELTHÁZ! A vámkisasszony - villa.dráma - ÚJRA
DESCRIPTION:Egy díjnyertes novella\,  Berzsenyi és Szabó T. Anna témába vágó versei\,  egy színésznő – ezekre épül Kállai R. Gábor monodrámája. A vámkisasszony. Egy állami hivatalnok. Egy emancipált nő &#8211; a XVIII‒XXI. századból. És a csábítás &#8211; jobban mondva az elcsábíttatás lehetősége. Örök téma &#8211; választékos\,  ízes irodalmi nyelven\,  szokatlan közegben:[..]\nhttps://barabasvilla.hu/events/a-vamkisasszony-villa-drama/
URL:https://barabasvilla.hu/events/a-vamkisasszony-villa-drama/
END:VEVENT
END:VCALENDAR