BEGIN:VCALENDAR
VERSION:2.0
PRODID:-//eventon.com NONSGML v1.0//EN
CALSCALE:GREGORIAN
METHOD:PUBLISH
BEGIN:VEVENT
UID:69e7355679ed4
DTSTAMP:20260421T102910
DTSTART:20211128T100000Z
DTEND:20211128T130000Z
TZID:UTC
LOCATION:
SUMMARY:Első Adventi Vasárnap - Békebeli karácsonyi adventi koszorú készítés
DESCRIPTION:Ünnepi dekoráció készítése egy profi kézműves útmutatásával. Az otthon melege sugárzik a békebeli hangulatú csodálatos díszekből. Öltöztesse Ön is pompába otthonát! A workshop díja: 3.500 Ft/fő\,  mely tartalmazza a felhasznált alapanyagokat is. Hegyvidék kártyával az esemény 3.000 Ft/fő a kerület lakosainak. A jelenlegi szabályozások értelmében maszk viselése a rendezvény ideje alatt[..]\nhttps://barabasvilla.hu/events/1-adventi-vasarnap/
URL:https://barabasvilla.hu/events/1-adventi-vasarnap/
END:VEVENT
END:VCALENDAR