BEGIN:VCALENDAR
VERSION:2.0
PRODID:-//eventon.com NONSGML v1.0//EN
CALSCALE:GREGORIAN
METHOD:PUBLISH
BEGIN:VEVENT
UID:69e5e982168be
DTSTAMP:20260420T105322
DTSTART:20200422T180000Z
DTEND:20200422T190000Z
TZID:UTC
LOCATION:
SUMMARY:Föld napi magvetés
DESCRIPTION:MŰHELY Föld Napja VESS A MÉHEKNEK ÉS MAGADNAK! Méhbarát gyógynövényvetés újrahasznosított „cserépbe”. A gyógynövények többsége nektárt és/vagy virágport\,  vagyis táplálékot nyújt a méheknek. A Föld Napja alkalmából olyan gyógynövények magjait vetjük el\,  amelyek azon túl\,  hogy balkonunkat színesíthetik\,  a konyhánkba is friss ízeket csempészhetnek. Minden résztvevő 2 gyógynövényt vethet\,  melyet[..]\nhttps://barabasvilla.hu/events/fold-napi-magvetes/
URL:https://barabasvilla.hu/events/fold-napi-magvetes/
END:VEVENT
END:VCALENDAR