BEGIN:VCALENDAR
VERSION:2.0
PRODID:-//eventon.com NONSGML v1.0//EN
CALSCALE:GREGORIAN
METHOD:PUBLISH
BEGIN:VEVENT
UID:69e5e7bea5094
DTSTAMP:20260420T104550
DTSTART:20200308T110000Z
DTEND:20200308T120000Z
TZID:UTC
LOCATION:
SUMMARY:villa.berek mesekuckó
DESCRIPTION:A Vincellérház gyerekbirodalommá alakul\,  a mesekuckó várja lakóit! Az elmesélt történet megnyugtat\,  tanít a világról\,  gazdagítja a képzelőerőt. A diavetítés mellett egy-egy interaktív mesével\,  játékkal várja a kicsiket Dömök Edina. 3–6 éves korosztálynak Jegy | 500 Ft Jegyek kaphatók a barabasvilla.hu oldalon és a MOMkult jegypénztárában. Dömök Edina\nhttps://barabasvilla.hu/events/villa-berek-mesekucko-marcius-2/
URL:https://barabasvilla.hu/events/villa-berek-mesekucko-marcius-2/
END:VEVENT
END:VCALENDAR