BEGIN:VCALENDAR
VERSION:2.0
PRODID:-//eventon.com NONSGML v1.0//EN
CALSCALE:GREGORIAN
METHOD:PUBLISH
BEGIN:VEVENT
UID:69e7337a10577
DTSTAMP:20260421T102114
DTSTART:20191208T160000Z
DTEND:20191208T170000Z
TZID:UTC
LOCATION:
SUMMARY:villa.berek műhely
DESCRIPTION:KARÁCSONYI MŰHELY Ünnepre hangolódás a gyerekekkel A gyerekek kísérőikkel közösen elkészíthetik kedvenc karácsonyi díszüket. Ragasztás\,  festés\,  díszítés ünnepi hangulatban\,  hogy közös élmény legyen az ünnepre készülődés. Ennek a korosztálynak ajánljuk: 4–8 éves Jegy | 500 Ft Jegyek kaphatók a barabasvilla.hu oldalon és a MOMkult jegypénztárában.\nhttps://barabasvilla.hu/events/villa-berek-muhely/
URL:https://barabasvilla.hu/events/villa-berek-muhely/
END:VEVENT
END:VCALENDAR